BEGIN:VCALENDAR
VERSION:2.0
BEGIN:VEVENT
SUMMARY:Reach out to SBDC - South Carolina about Business Recovery Assistance
DESCRIPTION:Reach out to them for information about their program.\n\nDescription: Our professionally trained business consultants provide no cost consulting to help you minimize losses and increase survivability when affected by a disaster. At no cost, our specialists can assist in helping you apply for state and federal disaster loans.\n\n- Phone: (803) 777-4907\n- Email: scsbdc@sc.edu\n- Source: https://founder-nav.com/programs/recUYiproxsgCoDAX\n\n---\nBrought to you by Founder Nav, helping entrepreneurs navigate the entrepreneurial ecosystem.
DTSTART:20260425T100049Z
DTEND:20260425T103049Z
END:VEVENT
END:VCALENDAR