BEGIN:VCALENDAR
VERSION:2.0
BEGIN:VEVENT
SUMMARY:Reach out to Saint Louis University about Saint Louis University New Venture Accelerator (NVA)
DESCRIPTION:Reach out to them for information about their program.\n\nDescription: 14-week accelerator curated to the needs of each summer cohort, focusing on customer discovery, validation, business development, revenue modeling and more. Our modules are designed to leverage the success and knowledge of our faculty, mentors and advisors to improve the participants' chances of success.\n\n- Email: hayley.johnston@slu.edu\n- Source: https://founder-nav.com/programs/recUVLJTTmRtAcbtR\n\n---\nBrought to you by Founder Nav, helping entrepreneurs navigate the entrepreneurial ecosystem.
DTSTART:20260425T100032Z
DTEND:20260425T103032Z
END:VEVENT
END:VCALENDAR