BEGIN:VCALENDAR
VERSION:2.0
BEGIN:VEVENT
SUMMARY:Reach out to Maui Economic Development Board about STEMworks
DESCRIPTION:Reach out to them for information about their program.\n\nDescription: Statewide STEM education and workforce development initiative serving 40,000+ students and teachers annually across Hawaii. Offers coding bootcamps, robotics, cybersecurity training, and career pathway programs connecting students to technology careers.\n\n- Phone: (808) 875-2300\n- Email: stem@medb.org\n- Source: https://founder-nav.com/programs/recUV27rXzhPuAv37\n\n---\nBrought to you by Founder Nav, helping entrepreneurs navigate the entrepreneurial ecosystem.
DTSTART:20260425T100000Z
DTEND:20260425T103000Z
END:VEVENT
END:VCALENDAR