BEGIN:VCALENDAR
VERSION:2.0
BEGIN:VEVENT
SUMMARY:Reach out to Pacific Asian Center for Entrepreneurship (PACE) about Summer Startup Launchpad
DESCRIPTION:Reach out to them for information about their program.\n\nDescription: Free 6-week intensive startup program at UH's PACE for student founding teams from any of the 10 UH campuses. Focuses on market validation, business model development, and MVP building through customer discovery activities. Teams can earn up to $4,000 to kick-start their businesses and are positioned for Liftoff Advisors and UH Ventures Accelerator.\n\n- Phone: (808) 956-5083\n- Email: pace@hawaii.edu\n- Source: https://founder-nav.com/programs/recUSrIzkuWWFWsFy\n\n---\nBrought to you by Founder Nav, helping entrepreneurs navigate the entrepreneurial ecosystem.
DTSTART:20260425T100026Z
DTEND:20260425T103026Z
END:VEVENT
END:VCALENDAR