BEGIN:VCALENDAR
VERSION:2.0
BEGIN:VEVENT
SUMMARY:Reach out to Hawaii SBDC – Hawaiʻi Island Hilo about Business Advising (No-Cost, One-on-One)
DESCRIPTION:Reach out to them for information about their program.\n\nDescription: No-cost, confidential one-on-one business advising from the Hawaii SBDC Hawaii Island Hilo office for East Hawaii entrepreneurs. SBA-funded advisors offer expertise in business planning, financial modeling, capital access, government contracting, and SBIR grants for Hawaii Island businesses.\n\n- Phone: (808) 932-8970\n- Email: hilo@hisbdc.org\n- Source: https://founder-nav.com/programs/recULlL7IfinimiAK\n\n---\nBrought to you by Founder Nav, helping entrepreneurs navigate the entrepreneurial ecosystem.
DTSTART:20260425T100033Z
DTEND:20260425T103033Z
END:VEVENT
END:VCALENDAR