BEGIN:VCALENDAR
VERSION:2.0
BEGIN:VEVENT
SUMMARY:Reach out to Hawaii SBDC – Hawaiʻi Island Hilo about Workshops & Seminars
DESCRIPTION:Reach out to them for information about their program.\n\nDescription: Free or low-cost business workshops and seminars from the Hawaii SBDC Hawaii Island Hilo office, covering startup, marketing, finance, and growth topics for East Hawaii Island entrepreneurs.\n\n- Phone: (808) 932-8970\n- Email: hilo@hisbdc.org\n- Source: https://founder-nav.com/programs/recUKazWAfCDwtn5p\n\n---\nBrought to you by Founder Nav, helping entrepreneurs navigate the entrepreneurial ecosystem.
DTSTART:20260425T100000Z
DTEND:20260425T103000Z
END:VEVENT
END:VCALENDAR