BEGIN:VCALENDAR
VERSION:2.0
BEGIN:VEVENT
SUMMARY:Reach out to EPIIC Venture Attractor, University of Colorado Colorado Springs about Venture Attractor Incubator (UCCS)
DESCRIPTION:Reach out to them for information about their program.\n\nDescription: UCCS incubator for early-stage startups in sports/outdoors, health innovation, and human performance sectors. Supports Colorado Springs economic development with business resources and mentorship.\n\n- Phone: (720) 295-8466\n- Email: ldoster@uccs.edu\n- Source: https://founder-nav.com/programs/recUIsbxcODhZ325T\n\n---\nBrought to you by Founder Nav, helping entrepreneurs navigate the entrepreneurial ecosystem.
DTSTART:20260425T100027Z
DTEND:20260425T103027Z
END:VEVENT
END:VCALENDAR