BEGIN:VCALENDAR
VERSION:2.0
BEGIN:VEVENT
SUMMARY:Reach out to Idaho SBDC – Boise about One-on-One Business Consulting
DESCRIPTION:Reach out to them for information about their program.\n\nDescription: Free, confidential one-on-one business consulting provided at the Idaho SBDC State Office, co-located with Southwest Idaho SBDC at Boise State University. Covers business planning, finance, marketing, operations, and specialized services.\n\n- Phone: (208) 426-3875\n- Source: https://founder-nav.com/programs/recUGIcrDDmeBw8E2\n\n---\nBrought to you by Founder Nav, helping entrepreneurs navigate the entrepreneurial ecosystem.
DTSTART:20260425T100010Z
DTEND:20260425T103010Z
END:VEVENT
END:VCALENDAR