BEGIN:VCALENDAR
VERSION:2.0
BEGIN:VEVENT
SUMMARY:Reach out to Bethesda Green about Bethesda Green Innovation Center Incubator
DESCRIPTION:Reach out to them for information about their program.\n\nDescription: Supports entrepreneurs developing sustainable solutions by providing mentorship, pitch practice, office space, access to services, and a collaborative community focused on environmental and social impact in the DC, Maryland, and Northern Virginia region.\n\n- Phone: (202) 350-0642\n- Email: Incubator@bethesdagreen.org\n- Source: https://founder-nav.com/programs/recU8OX337ozY4f8c\n\n---\nBrought to you by Founder Nav, helping entrepreneurs navigate the entrepreneurial ecosystem.
DTSTART:20260425T100024Z
DTEND:20260425T103024Z
END:VEVENT
END:VCALENDAR