BEGIN:VCALENDAR
VERSION:2.0
BEGIN:VEVENT
SUMMARY:Reach out to Bridgeport Innovation Center about Small Business Incubator (MakerSpace & Tenant Community)
DESCRIPTION:Reach out to them for information about their program.\n\nDescription: Connecticut's first and largest small business incubator hosting 160+ tenants across a 250,000 sq ft campus, with MakerSpace for creative entrepreneurs.\n\n- Phone: (203) 333-9000\n- Source: https://founder-nav.com/programs/recU7Yxgx8VHbe6EZ\n\n---\nBrought to you by Founder Nav, helping entrepreneurs navigate the entrepreneurial ecosystem.
DTSTART:20260425T100041Z
DTEND:20260425T103041Z
END:VEVENT
END:VCALENDAR