BEGIN:VCALENDAR
VERSION:2.0
BEGIN:VEVENT
SUMMARY:Reach out to Connecticut Small Business Development Center – Storrs about Capital Access Advising (Funding & Lending Guidance)
DESCRIPTION:Reach out to them for information about their program.\n\nDescription: CTSBDC Capital Access advising helps small businesses identify and prepare for funding, connecting them with lenders, angel investors, SBA loans, and other financing options.\n\n- Phone: (877) 723-2828\n- Email: ctsbdc@uconn.edu\n- Source: https://founder-nav.com/programs/recTs0rxmZpAbNTlZ\n\n---\nBrought to you by Founder Nav, helping entrepreneurs navigate the entrepreneurial ecosystem.
DTSTART:20260425T100035Z
DTEND:20260425T103035Z
END:VEVENT
END:VCALENDAR