BEGIN:VCALENDAR
VERSION:2.0
BEGIN:VEVENT
SUMMARY:Reach out to Great Bend Economic Development – Innovation Center about ICE House Entrepreneurship Program
DESCRIPTION:Reach out to them for information about their program.\n\nDescription: 8-week entrepreneurial mindset certificate program offered in Great Bend, exploring 8 key principles of entrepreneurship through discussions, videos, and insights from local entrepreneurs.\n\n- Phone: (620) 796-2407\n- Email: marketing@gbedinc.com\n- Source: https://founder-nav.com/programs/recToedetAy8Qv0o7\n\n---\nBrought to you by Founder Nav, helping entrepreneurs navigate the entrepreneurial ecosystem.
DTSTART:20260425T100031Z
DTEND:20260425T103031Z
END:VEVENT
END:VCALENDAR