BEGIN:VCALENDAR
VERSION:2.0
BEGIN:VEVENT
SUMMARY:Reach out to Defense Innovation OnRamp Hub: Kansas about Manufacturing Readiness Bootcamp (MRL Bootcamp)
DESCRIPTION:Reach out to them for information about their program.\n\nDescription: Bootcamp preparing manufacturers and innovators to meet Department of Defense manufacturing readiness standards and enter the defense contracting ecosystem.\n\n- Phone: (316) 978-2705\n- Source: https://founder-nav.com/programs/recThhnYp6uXdPa1k\n\n---\nBrought to you by Founder Nav, helping entrepreneurs navigate the entrepreneurial ecosystem.
DTSTART:20260425T100041Z
DTEND:20260425T103041Z
END:VEVENT
END:VCALENDAR