BEGIN:VCALENDAR
VERSION:2.0
BEGIN:VEVENT
SUMMARY:Reach out to SCORE Central Coast  about SCORE Mentoring Program
DESCRIPTION:Reach out to them for information about their program.\n\nDescription: Provides free, confidential business mentoring and educational workshops to entrepreneurs and small business owners in Central California, supporting both startups and established businesses through personalized guidance and resources.\n\n- Phone: (800) 634-0245\n- Source: https://founder-nav.com/programs/recTcPPKHTUC6GLnu\n\n---\nBrought to you by Founder Nav, helping entrepreneurs navigate the entrepreneurial ecosystem.
DTSTART:20260425T100024Z
DTEND:20260425T103024Z
END:VEVENT
END:VCALENDAR