BEGIN:VCALENDAR
VERSION:2.0
BEGIN:VEVENT
SUMMARY:Reach out to Durango Chamber of Commerce about Durango Chamber Small Business Programs
DESCRIPTION:Reach out to them for information about their program.\n\nDescription: Durango Chamber of Commerce programs providing networking, advocacy, training, and connections to resources for businesses and entrepreneurs in Durango and Southwest Colorado.\n\n- Phone: (970) 247-0312\n- Email: chamber@durangobusiness.org\n- Source: https://founder-nav.com/programs/recTLPLmFoKFn2mUf\n\n---\nBrought to you by Founder Nav, helping entrepreneurs navigate the entrepreneurial ecosystem.
DTSTART:20260425T100015Z
DTEND:20260425T103015Z
END:VEVENT
END:VCALENDAR