BEGIN:VCALENDAR
VERSION:2.0
BEGIN:VEVENT
SUMMARY:Reach out to SCORE San Francisco & East Bay about SCORE Mentoring Program
DESCRIPTION:Reach out to them for information about their program.\n\nDescription: Provides free business mentoring, low-cost or no-cost training, and practical resources to help entrepreneurs and small business owners start or grow their businesses in the San Francisco East Bay area.\n\n- Phone: 1-800-634-0245\n- Email: Susan.Lundy@ScoreVolunteer.org\n- Source: https://founder-nav.com/programs/recTIvn058WTMgv1r\n\n---\nBrought to you by Founder Nav, helping entrepreneurs navigate the entrepreneurial ecosystem.
DTSTART:20260425T100043Z
DTEND:20260425T103043Z
END:VEVENT
END:VCALENDAR