BEGIN:VCALENDAR
VERSION:2.0
BEGIN:VEVENT
SUMMARY:Reach out to gener8tor Delaware about gALPHA Bronze Valley VentureLab Delaware (6-Week Pre-Accelerator)
DESCRIPTION:Reach out to them for information about their program.\n\nDescription: Free 6-week venture-creation accelerator for DSU students and technologists to ideate, validate, and build high-growth startups with mentorship and product development support.\n\n- Email: claudius@gener8tor.com\n- Source: https://founder-nav.com/programs/recTFN671rZi21ak7\n\n---\nBrought to you by Founder Nav, helping entrepreneurs navigate the entrepreneurial ecosystem.
DTSTART:20260425T100012Z
DTEND:20260425T103012Z
END:VEVENT
END:VCALENDAR