BEGIN:VCALENDAR
VERSION:2.0
BEGIN:VEVENT
SUMMARY:Reach out to Prince George's County Economic Development Corporation about Innovation Station Business Incubator (ISBI)
DESCRIPTION:Reach out to them for information about their program.\n\nDescription: Elite business incubator and entrepreneurial hub offering co-working/office space, peer learning, mentorship, and access to capital strategies for small businesses in Prince George's County.\n\n- Source: https://founder-nav.com/programs/recT2LNMbNCyjwWSN\n\n---\nBrought to you by Founder Nav, helping entrepreneurs navigate the entrepreneurial ecosystem.
DTSTART:20260425T100007Z
DTEND:20260425T103007Z
END:VEVENT
END:VCALENDAR