BEGIN:VCALENDAR
VERSION:2.0
BEGIN:VEVENT
SUMMARY:Reach out to Prince George's County Economic Development Corporation about C-Suite Accelerator Program
DESCRIPTION:Reach out to them for information about their program.\n\nDescription: Accelerator powered by FounderTrac platform for women and minority-owned businesses in Prince George's County, providing online portal access, cohort programming, mentors, and growth tracking.\n\n- Source: https://founder-nav.com/programs/recSxT5qNfOiRw7gV\n\n---\nBrought to you by Founder Nav, helping entrepreneurs navigate the entrepreneurial ecosystem.
DTSTART:20260425T100021Z
DTEND:20260425T103021Z
END:VEVENT
END:VCALENDAR