BEGIN:VCALENDAR
VERSION:2.0
BEGIN:VEVENT
SUMMARY:Reach out to University of Chicago about Mentorship Program
DESCRIPTION:Reach out to them for information about their program.\n\nDescription: Students, alumni, and community members are able to easily book one-on-one meetings with industry experts and experienced entrepreneurs who provide critical guidance, feedback, and connections.\n\n- Email: polsky@uchicago.edu\n- Source: https://founder-nav.com/programs/recSvHEqe3iVCFfjZ\n\n---\nBrought to you by Founder Nav, helping entrepreneurs navigate the entrepreneurial ecosystem.
DTSTART:20260425T100032Z
DTEND:20260425T103032Z
END:VEVENT
END:VCALENDAR