BEGIN:VCALENDAR
VERSION:2.0
BEGIN:VEVENT
SUMMARY:Reach out to Mana Up Retail about Mana Up Accelerator
DESCRIPTION:Reach out to them for information about their program.\n\nDescription: Retail presence and pop-up program component of Mana Up, providing accelerator alumni and Hawaii product brands with curated retail shelf space at Royal Hawaiian Center and South Shore Market. Serves as a direct-to-consumer sales channel and brand visibility platform.\n\n- Phone: (808) 829-8003\n- Email: aloha@manauphawaii.com\n- Source: https://founder-nav.com/programs/recSuK2p23T891D69\n\n---\nBrought to you by Founder Nav, helping entrepreneurs navigate the entrepreneurial ecosystem.
DTSTART:20260425T100045Z
DTEND:20260425T103045Z
END:VEVENT
END:VCALENDAR