BEGIN:VCALENDAR
VERSION:2.0
BEGIN:VEVENT
SUMMARY:Reach out to Old Dominion University about The Business of Art
DESCRIPTION:Reach out to them for information about their program.\n\nDescription: Whether you are a painter, crafter, or any other type of maker, this program is for you! Register and work with our consultants to find out how to balance your creative side with practical business savvy.\n\n- Phone: (757) 683-3000\n- Source: https://founder-nav.com/programs/recSlXpJdlUSuZ6il\n\n---\nBrought to you by Founder Nav, helping entrepreneurs navigate the entrepreneurial ecosystem.
DTSTART:20260425T100010Z
DTEND:20260425T103010Z
END:VEVENT
END:VCALENDAR