BEGIN:VCALENDAR
VERSION:2.0
BEGIN:VEVENT
SUMMARY:Reach out to Cook Tucson about Cook Tucson Commercial Kitchen Incubator
DESCRIPTION:Reach out to them for information about their program.\n\nDescription: Tucson's community kitchen and culinary incubator offering licensed commercial kitchen space available to rent by the hour, supporting food entrepreneurs in launching and growing food businesses.\n\n- Source: https://founder-nav.com/programs/recSgezucV8IIO7as\n\n---\nBrought to you by Founder Nav, helping entrepreneurs navigate the entrepreneurial ecosystem.
DTSTART:20260425T100021Z
DTEND:20260425T103021Z
END:VEVENT
END:VCALENDAR