BEGIN:VCALENDAR
VERSION:2.0
BEGIN:VEVENT
SUMMARY:Reach out to Prospera about Explora (Cooperative Business Fundamentals Course)
DESCRIPTION:Reach out to them for information about their program.\n\nDescription: Hosts public events for Latina immigrants to connect, access business resources, and explore opportunities, including annual gatherings like International Women’s Day and a summit for Latina entrepreneurs to learn, showcase businesses, and collaborate.\n\n- Phone: (510) 695-2270\n- Email: info@prosperacoops.org\n- Source: https://founder-nav.com/programs/recSfkMDszNQQ54uN\n\n---\nBrought to you by Founder Nav, helping entrepreneurs navigate the entrepreneurial ecosystem.
DTSTART:20260425T100019Z
DTEND:20260425T103019Z
END:VEVENT
END:VCALENDAR