BEGIN:VCALENDAR
VERSION:2.0
BEGIN:VEVENT
SUMMARY:Reach out to SCORE Southern Maryland about SCORE Southern Maryland Business Mentoring
DESCRIPTION:Reach out to them for information about their program.\n\nDescription: Provides free mentoring and expert guidance from experienced business professionals to help entrepreneurs and small business owners start, grow, and achieve their business goals in Southern Maryland.\n\n- Phone: 1-800-634-0245\n- Source: https://founder-nav.com/programs/recSS8VN4OG3pqzu5\n\n---\nBrought to you by Founder Nav, helping entrepreneurs navigate the entrepreneurial ecosystem.
DTSTART:20260425T100046Z
DTEND:20260425T103046Z
END:VEVENT
END:VCALENDAR