BEGIN:VCALENDAR
VERSION:2.0
BEGIN:VEVENT
SUMMARY:Reach out to Alabama ASBDC Network about Digital Marketing Bootcamp
DESCRIPTION:Reach out to them for information about their program.\n\nDescription: The Digital Marketing Bootcamp is a three-hour training program that guides attendees through setting measurable marketing goals for their business and instructs how SEO, social media and technology can help them reach their goals. \n\n- Email: karla.jordan@ua.edu\n- Source: https://founder-nav.com/programs/recSC1aV80G58Mxyq\n\n---\nBrought to you by Founder Nav, helping entrepreneurs navigate the entrepreneurial ecosystem.
DTSTART:20260425T100036Z
DTEND:20260425T103036Z
END:VEVENT
END:VCALENDAR