BEGIN:VCALENDAR
VERSION:2.0
BEGIN:VEVENT
SUMMARY:Reach out to Unknown Hub about Program Name
DESCRIPTION:Reach out to them for information about their program.\n\nDescription: No description available.\n- Source: https://founder-nav.com/programs/recS5JFtofDEeNP6U\n\n---\nBrought to you by Founder Nav, helping entrepreneurs navigate the entrepreneurial ecosystem.
DTSTART:20260420T100050Z
DTEND:20260420T103050Z
END:VEVENT
END:VCALENDAR