BEGIN:VCALENDAR
VERSION:2.0
BEGIN:VEVENT
SUMMARY:Reach out to Wichita State University – Center for Entrepreneurship about The Forum for Family Enterprise
DESCRIPTION:Reach out to them for information about their program.\n\nDescription: Collaborative platform for Kansas family-owned businesses to share experiences, address generational and governance challenges, and access programming on leadership, succession, and ownership through the Kansas Family Business Forum.\n\n- Phone: (316) 978-6269\n- Email: nancy.kersenbrock@wichita.edu\n- Source: https://founder-nav.com/programs/recRx8feNVjqfmPQn\n\n---\nBrought to you by Founder Nav, helping entrepreneurs navigate the entrepreneurial ecosystem.
DTSTART:20260425T100043Z
DTEND:20260425T103043Z
END:VEVENT
END:VCALENDAR