BEGIN:VCALENDAR
VERSION:2.0
BEGIN:VEVENT
SUMMARY:Reach out to Michigan SBDC West Michigan Region about SBDC Small Business Consulting Services
DESCRIPTION:Reach out to them for information about their program.\n\nDescription: Accelerate your business’s success through personalized, one-on-one business consulting. We’ll help you with planning and growth strategies to meet your goals.\n\n- Source: https://founder-nav.com/programs/recRunrFYbSQQbVMd\n\n---\nBrought to you by Founder Nav, helping entrepreneurs navigate the entrepreneurial ecosystem.
DTSTART:20260426T100033Z
DTEND:20260426T103033Z
END:VEVENT
END:VCALENDAR