BEGIN:VCALENDAR
VERSION:2.0
BEGIN:VEVENT
SUMMARY:Reach out to Greater Fort Wayne Inc. about The Heritage Group Accelerator
DESCRIPTION:Reach out to them for information about their program.\n\nDescription: Three-month program that allows hardtech early-stage startups to work with experienced entrepreneurs and innovators to drive growth and disrupt industry practices.\n\n- Phone: (317) 872-6010\n- Email: https://hgventures.com/accelerator/\n- Source: https://founder-nav.com/programs/recRuTpBZPo2VL6UF\n\n---\nBrought to you by Founder Nav, helping entrepreneurs navigate the entrepreneurial ecosystem.
DTSTART:20260426T100025Z
DTEND:20260426T103025Z
END:VEVENT
END:VCALENDAR