BEGIN:VCALENDAR
VERSION:2.0
BEGIN:VEVENT
SUMMARY:Reach out to Leadership Jeffco about Leadership Jeffco Program
DESCRIPTION:Reach out to them for information about their program.\n\nDescription: Annual 10-month leadership development program for established leaders across Jefferson County with monthly site visits to key industries, government, and community organizations.\n\n- Phone: (303) 202-2965\n- Email: tyson@jeffcoedc.org\n- Source: https://founder-nav.com/programs/recRmVehtRwYDuLZ9\n\n---\nBrought to you by Founder Nav, helping entrepreneurs navigate the entrepreneurial ecosystem.
DTSTART:20260425T100046Z
DTEND:20260425T103046Z
END:VEVENT
END:VCALENDAR