BEGIN:VCALENDAR
VERSION:2.0
BEGIN:VEVENT
SUMMARY:Reach out to Solano Napa SBDC about Solano Success Accelerator
DESCRIPTION:Reach out to them for information about their program.\n\nDescription: Offers a six-week accelerator with one-on-one advising, business pitch development, and a $4,000 grant to help local business owners recover, grow, and build connections in Solano County.\n\n- Phone: (707) 646-1071\n- Email: info@solanonapasbdc.org\n- Source: https://founder-nav.com/programs/recRlekGvlnDJfcwk\n\n---\nBrought to you by Founder Nav, helping entrepreneurs navigate the entrepreneurial ecosystem.
DTSTART:20260425T100042Z
DTEND:20260425T103042Z
END:VEVENT
END:VCALENDAR