BEGIN:VCALENDAR
VERSION:2.0
BEGIN:VEVENT
SUMMARY:Reach out to 1871 about Startup Roadmap
DESCRIPTION:Reach out to them for information about their program.\n\nDescription: You’ll have access to a clear path forward, helping you navigate each stage of growth with confidence. From refining your idea to scaling your business, we provide the resources and community you need to succeed every step of the way.\n\n- Email: veronica@1871.com\n- Source: https://founder-nav.com/programs/recRisNXpROQltOuL\n\n---\nBrought to you by Founder Nav, helping entrepreneurs navigate the entrepreneurial ecosystem.
DTSTART:20260425T100018Z
DTEND:20260425T103018Z
END:VEVENT
END:VCALENDAR