BEGIN:VCALENDAR
VERSION:2.0
BEGIN:VEVENT
SUMMARY:Reach out to Baltimore Life Science Discovery Accelerator about UM-BILD Accelerator (Life Science Commercialization & Mentorship)
DESCRIPTION:Reach out to them for information about their program.\n\nDescription: An NIH REACH Hub-funded accelerator program at the University of Maryland, Baltimore that provides seed funding, entrepreneurial education, and mentorship to researchers commercializing life science technologies from UMB, UMBC, Morgan State, and other Baltimore-area universities. Focuses on therapeutics, medical devices, diagnostics, and digital health with potential to address health disparities.\n\n- Phone: (410) 706-3100\n- Email: UM-BILD@umaryland.edu\n- Source: https://founder-nav.com/programs/recRSZhp0JOh6TQrX\n\n---\nBrought to you by Founder Nav, helping entrepreneurs navigate the entrepreneurial ecosystem.
DTSTART:20260425T100014Z
DTEND:20260425T103014Z
END:VEVENT
END:VCALENDAR