BEGIN:VCALENDAR
VERSION:2.0
BEGIN:VEVENT
SUMMARY:Reach out to CT Tech Hub about Tech Ready Career Training
DESCRIPTION:Reach out to them for information about their program.\n\nDescription: Cultivates Greater Fairfield County as a leading technology hub by connecting innovative companies with top talent, offering training, career resources, and networking opportunities to build a robust, diverse, and accessible tech workforce.\n\n- Email: info@cttechhub.org\n- Source: https://founder-nav.com/programs/recRRDBZ6tZSgg2p7\n\n---\nBrought to you by Founder Nav, helping entrepreneurs navigate the entrepreneurial ecosystem.
DTSTART:20260425T100000Z
DTEND:20260425T103000Z
END:VEVENT
END:VCALENDAR