BEGIN:VCALENDAR
VERSION:2.0
BEGIN:VEVENT
SUMMARY:Reach out to Johns Hopkins Technology Ventures about FastForward Accelerator & Incubator
DESCRIPTION:Reach out to them for information about their program.\n\nDescription: Johns Hopkins University's flagship startup commercialization program, having helped form 150+ companies. Operates multiple locations including Homewood/Stieff Silver and FastForward East at 855 N. Wolfe St. The student-focused FastForward U offers two tracks: Spark (ideation, 9 weeks) and Fuel (validation, 9 weeks), providing resources, mentorship, and workspace for JHU-affiliated entrepreneurs to launch ventures.\n\n- Source: https://founder-nav.com/programs/recRQUL4xeaG7KEn6\n\n---\nBrought to you by Founder Nav, helping entrepreneurs navigate the entrepreneurial ecosystem.
DTSTART:20260425T100052Z
DTEND:20260425T103052Z
END:VEVENT
END:VCALENDAR