BEGIN:VCALENDAR
VERSION:2.0
BEGIN:VEVENT
SUMMARY:Reach out to CWI Entrepreneur Lab about Idea, Set, Go
DESCRIPTION:Reach out to them for information about their program.\n\nDescription: A 4-week cohort at CWI's Entrepreneur Lab helping entrepreneurs validate a new business idea through guided experiments before investing significant time and resources.\n\n- Source: https://founder-nav.com/programs/recRL9abnsRIpVBGH\n\n---\nBrought to you by Founder Nav, helping entrepreneurs navigate the entrepreneurial ecosystem.
DTSTART:20260425T100009Z
DTEND:20260425T103009Z
END:VEVENT
END:VCALENDAR