BEGIN:VCALENDAR
VERSION:2.0
BEGIN:VEVENT
SUMMARY:Reach out to Prospera about Escuela de Fundadoras (Co-op Incubation Program)
DESCRIPTION:Reach out to them for information about their program.\n\nDescription: Intensive yearlong program helping entrepreneurs launch cooperative businesses through workshops, technical assistance, and peer learning, focusing on advanced business, communication, and cooperative skills such as marketing, operations, governance, and decision-making.\n\n- Phone: (510) 695-2270\n- Email: info@prosperacoops.org\n- Source: https://founder-nav.com/programs/recRKlUq7ht3UQfKn\n\n---\nBrought to you by Founder Nav, helping entrepreneurs navigate the entrepreneurial ecosystem.
DTSTART:20260425T100058Z
DTEND:20260425T103058Z
END:VEVENT
END:VCALENDAR