BEGIN:VCALENDAR
VERSION:2.0
BEGIN:VEVENT
SUMMARY:Reach out to Unknown Hub about SBIR/STTR Resource Center
DESCRIPTION:Reach out to them for information about their program.\n\nDescription: Provides guidance and resources to help small businesses and university researchers secure federal funding for innovative research and development, including identifying opportunities, understanding requirements, and connecting with program officers for proposal development support.\n\n- Source: https://founder-nav.com/programs/recRF1gEExrfu5W3C\n\n---\nBrought to you by Founder Nav, helping entrepreneurs navigate the entrepreneurial ecosystem.
DTSTART:20260425T100007Z
DTEND:20260425T103007Z
END:VEVENT
END:VCALENDAR