BEGIN:VCALENDAR
VERSION:2.0
BEGIN:VEVENT
SUMMARY:Reach out to Southwest Idaho SBDC – Boise State University about Business Training & Workshops
DESCRIPTION:Reach out to them for information about their program.\n\nDescription: Low-cost and free business training workshops for Treasure Valley entrepreneurs hosted by Southwest Idaho SBDC at Boise State University. Wide range of topics from business basics to advanced growth strategies.\n\n- Phone: (208) 426-3875\n- Source: https://founder-nav.com/programs/recR8oep2zIQ5g2vS\n\n---\nBrought to you by Founder Nav, helping entrepreneurs navigate the entrepreneurial ecosystem.
DTSTART:20260425T100048Z
DTEND:20260425T103048Z
END:VEVENT
END:VCALENDAR