BEGIN:VCALENDAR
VERSION:2.0
BEGIN:VEVENT
SUMMARY:Reach out to Avista Center for Entrepreneurship about Avista Speaker Series
DESCRIPTION:Reach out to them for information about their program.\n\nDescription: A recurring guest speaker series at North Idaho College featuring experienced business leaders and innovators who share insights on entrepreneurship, industry, and business growth.\n\n- Source: https://founder-nav.com/programs/recR7cym8toRUIwiX\n\n---\nBrought to you by Founder Nav, helping entrepreneurs navigate the entrepreneurial ecosystem.
DTSTART:20260425T100046Z
DTEND:20260425T103046Z
END:VEVENT
END:VCALENDAR