BEGIN:VCALENDAR
VERSION:2.0
BEGIN:VEVENT
SUMMARY:Reach out to Regional Innovation Center about Entrepreneur Academy
DESCRIPTION:Reach out to them for information about their program.\n\nDescription: Free 8-week program at ChamberECT's Regional Innovation Center helping entrepreneurs start and expand businesses with guidance from subject matter experts.\n\n- Phone: (860) 701-9113\n- Email: innovation@chamberect.com\n- Source: https://founder-nav.com/programs/recQydCOcZeAEDSLn\n\n---\nBrought to you by Founder Nav, helping entrepreneurs navigate the entrepreneurial ecosystem.
DTSTART:20260425T100023Z
DTEND:20260425T103023Z
END:VEVENT
END:VCALENDAR