BEGIN:VCALENDAR
VERSION:2.0
BEGIN:VEVENT
SUMMARY:Reach out to StarTUp at the Armory about StarTUp Accelerator
DESCRIPTION:Reach out to them for information about their program.\n\nDescription: Offers early-stage founders an intensive eight-week summer program with a $10,000 stipend, expert mentorship, workshops, and a collaborative environment to refine, grow, and launch their ventures.\n\n- Source: https://founder-nav.com/programs/recQtvfBe1enoykBx\n\n---\nBrought to you by Founder Nav, helping entrepreneurs navigate the entrepreneurial ecosystem.
DTSTART:20260425T100051Z
DTEND:20260425T103051Z
END:VEVENT
END:VCALENDAR