BEGIN:VCALENDAR
VERSION:2.0
BEGIN:VEVENT
SUMMARY:Reach out to Healthworx about Healthworx Accelerator
DESCRIPTION:Reach out to them for information about their program.\n\nDescription: A 12-week accelerator followed by a 9-month extended program for pre-seed and seed-stage healthcare startups, backed by CareFirst BlueCross BlueShield. Accepts approximately 20 companies per cohort and provides mentorship, resources, and healthcare industry connections to help founders commercialize innovations in the health and life sciences space. The program is the successor to the 1501 Health program.\n\n- Source: https://founder-nav.com/programs/recQsbvwdcOxKlD84\n\n---\nBrought to you by Founder Nav, helping entrepreneurs navigate the entrepreneurial ecosystem.
DTSTART:20260425T100019Z
DTEND:20260425T103019Z
END:VEVENT
END:VCALENDAR