BEGIN:VCALENDAR
VERSION:2.0
BEGIN:VEVENT
SUMMARY:Reach out to Expert Dojo about Expert Dojo Investment Accelerator Program
DESCRIPTION:Reach out to them for information about their program.\n\nDescription: Expert Dojo's core accelerator and venture investment program for pre-seed and seed startups. Invests $50K–$100K (SAFE notes) for 3.5%–7% equity. Provides Monday Accountability Sessions, Monthly Mastermind sessions (4/month), weekly expert training videos, warm introductions to VCs and investors, and Quarterly Demo Days. Over 260+ startups invested since 2018. Ranked among most active pre-seed investors in U.S. after Techstars and Y Combinator. Portfolio companies have raised an average of $3.7M. Focus on minority- and female-founded tech companies.\n\n- Phone: (800) 600-0881\n- Source: https://founder-nav.com/programs/recQmjT3MNKfMKkJa\n\n---\nBrought to you by Founder Nav, helping entrepreneurs navigate the entrepreneurial ecosystem.
DTSTART:20260425T100031Z
DTEND:20260425T103031Z
END:VEVENT
END:VCALENDAR