BEGIN:VCALENDAR
VERSION:2.0
BEGIN:VEVENT
SUMMARY:Reach out to Daybreak Labs about Build Before You Pitch
DESCRIPTION:Reach out to them for information about their program.\n\nDescription: Offers an intensive, 8-week, in-person program guiding early-stage founders through business planning, legal setup, customer acquisition, financial fundamentals, and pitch preparation, culminating in a Demo Day with investor feedback and networking opportunities.\n\n- Phone: (925) 231-2333\n- Email: info@daybreaklabs.io\n- Source: https://founder-nav.com/programs/recQk5zM1X2FHrzRX\n\n---\nBrought to you by Founder Nav, helping entrepreneurs navigate the entrepreneurial ecosystem.
DTSTART:20260425T100007Z
DTEND:20260425T103007Z
END:VEVENT
END:VCALENDAR