BEGIN:VCALENDAR
VERSION:2.0
BEGIN:VEVENT
SUMMARY:Reach out to Trailhead about Boise Entrepreneur Week (BEW)
DESCRIPTION:Reach out to them for information about their program.\n\nDescription: Idaho's premier annual entrepreneurial event hosted by Trailhead featuring educational talks, workshops, and pitch competitions with over $250,000 awarded across multiple competitions.\n\n- Email: info@trailheadboise.org\n- Source: https://founder-nav.com/programs/recQdAlwIxIsHJSrr\n\n---\nBrought to you by Founder Nav, helping entrepreneurs navigate the entrepreneurial ecosystem.
DTSTART:20260425T100003Z
DTEND:20260425T103003Z
END:VEVENT
END:VCALENDAR