BEGIN:VCALENDAR
VERSION:2.0
BEGIN:VEVENT
SUMMARY:Reach out to UMaine Office of Strategic Partnerships, Innovation, Resources & Engagement (SPIRE) about I-Corps at UMaine
DESCRIPTION:Reach out to them for information about their program.\n\nDescription: An NSF-funded 6-week customer discovery program for UMaine faculty, staff, and students with STEM-based innovations. Two tracks: I-Corps Spark (5-week cohort-based) and I-Corps Fusion (individualized, 12+ interviews). Serves as a prerequisite and feeder for the MIRTA accelerator.\n\n- Phone: (207) 581-1454\n- Email: uminnovation@maine.edu\n- Source: https://founder-nav.com/programs/recQWesu6jnl3SsOf\n\n---\nBrought to you by Founder Nav, helping entrepreneurs navigate the entrepreneurial ecosystem.
DTSTART:20260425T100011Z
DTEND:20260425T103011Z
END:VEVENT
END:VCALENDAR