BEGIN:VCALENDAR
VERSION:2.0
BEGIN:VEVENT
SUMMARY:Reach out to UCR Office of Technology Partnerships – EPIC about Zero-to-Entrepreneur Program
DESCRIPTION:Reach out to them for information about their program.\n\nDescription: Offers a free, six-month pathway for aspiring entrepreneurs to transform technology-driven ideas into startups through expert-led training, personalized mentorship, hands-on lab experience, and funding opportunities, with flexible online and in-person coursework and UCR Extension course credit for participants.\n\n- Phone: (951) 827-7941\n- Email: nicoled@ucr.edu\n- Source: https://founder-nav.com/programs/recQWMEZbNHsdBjqm\n\n---\nBrought to you by Founder Nav, helping entrepreneurs navigate the entrepreneurial ecosystem.
DTSTART:20260425T100013Z
DTEND:20260425T103013Z
END:VEVENT
END:VCALENDAR