BEGIN:VCALENDAR
VERSION:2.0
BEGIN:VEVENT
SUMMARY:Reach out to Orlando Economic Partnership about Public Leadership Institute (PLI)
DESCRIPTION:Reach out to them for information about their program.\n\nDescription: A non‑partisan leadership training initiative that prepares business‑minded professionals and emerging public leaders to influence public policy, advocacy, and regional governance through immersive tracks in political and civic leadership.\n\n- Phone: (407) 422-7159\n- Source: https://founder-nav.com/programs/recQQwJeDdKgqZS17\n\n---\nBrought to you by Founder Nav, helping entrepreneurs navigate the entrepreneurial ecosystem.
DTSTART:20260425T100030Z
DTEND:20260425T103030Z
END:VEVENT
END:VCALENDAR